BEGIN:VCALENDAR
VERSION:2.0
PRODID:-//Cambridge Center for Behavioral Studies - ECPv6.15.13//NONSGML v1.0//EN
CALSCALE:GREGORIAN
METHOD:PUBLISH
X-WR-CALNAME:Cambridge Center for Behavioral Studies
X-ORIGINAL-URL:https://behavior.org
X-WR-CALDESC:Events for Cambridge Center for Behavioral Studies
REFRESH-INTERVAL;VALUE=DURATION:PT1H
X-Robots-Tag:noindex
X-PUBLISHED-TTL:PT1H
BEGIN:VTIMEZONE
TZID:UTC
BEGIN:STANDARD
TZOFFSETFROM:+0000
TZOFFSETTO:+0000
TZNAME:UTC
DTSTART:20250101T000000
END:STANDARD
END:VTIMEZONE
BEGIN:VEVENT
DTSTART;VALUE=DATE:20260731
DTEND;VALUE=DATE:20260801
DTSTAMP:20260425T104813
CREATED:20260115T194125Z
LAST-MODIFIED:20260422T190446Z
UID:24199-1785456000-1785542399@behavior.org
SUMMARY:14th Annual ETHICS in Professional Practice Conference
DESCRIPTION:This is a one-day conference featuring leaders in the fields of Ethics\, Psychology\, Business\, and Applied Behavior Analysis offered both for in-person attendance or virtually with recordings available for 14 days post-conference. \nOf benefit to Behavior Analysts\, Psychologists\, Speech-Language Pathologists\, Teachers\, Special Education Providers\, School Administrators\, Students and Parents & Caregivers. \nOur conference starts at 9:00 am (Eastern/MA timezone) with introductions. Presentations start at 9:15 am and end at 5:15 pm. Recordings to be available for home-study to earn BACB® Learning CEUs. Psychology CE Credits only earned through live/synchronous attendance. \n\n\n			\n				\n				\n				\n				\n				Invited Speakers\n			\n				\n					\n					\n					\n				\n				Mariel Fernandez\, MS\, BCBA\, LBAThe Council of Autism Service Providers \n					\n					\n					\n				\n				SungWoo Kahng\, PhD\, BCBA-D\, LBARutgers University \n					\n					\n					\n				\n				Richard Kubina Jr.\, PhD\, BCBA-DPenn State College of Education \n					\n					\n					\n				\n				Eric Larsson\, PhD\, LP\, BCBA-DLovaas Institute for Early Intervention \n					\n					\n					\n				\n				Anna Linnehan\, PhD\, BCBA-D\, LABAEndicott College \n					\n					\n					\n				\n				Kristin Foley\, PhD\, BCBA-D\, LBAEndicott College \n					\n					\n					\n				\n				Stacha C. Leslie\, PhD\, BCBAThe Faison Center’s Peninsula School Campus\nUniversity of North Texas \n					\n					\n					\n				\n				Lori Mastrogiacomo\, PhD\, BCBA\, LBAEndicott College\nGold Coast Children’s Center \n				\n				\n				\n				\n				Continuing Education Opportunities\n				Continuing Education opportunities: \nBACB® Learning CEUs and Psychology CE Credits (Includes Licensed psychologists\, school psychologists\, and EdDs/educational psychologists) \nThis is a hybrid in-person and virtual conference. Recordings will be available for 14 days. (For those seeking Psychology CE Credits\, ONLY live/synchronous study is available.) \n \nBACB® Learning CEUs (6.0 Anticipated): The Cambridge Center for Behavioral Studies is an approved Type 2 CE Provider by the Behavior Analyst Certification Board® (BACB®) and is authorized to offer 6.0 CE units for this conference. Continuing Education Provider No.: OP-04-0058 \nAttendees must complete all six presentations in-person\, virtually or through recordings available for 14 days post-conference for asynchronous home-study* to earn CEs. (Partial credit will not be issued.) An evaluation and code quiz with a 100% score needs to be completed for issuance of continuing education for live/synchronous study by the Monday following the conference. *IF you are seeking to earn BACB® Learning CEUs through watching recordings\, you will need to complete a different process\, including a question/answer quiz with 3 questions for each presentation. This is a new regulation. \nAPA Approved Sponsor  \nPsychology CE Credits (6.0 Anticipated)*: Amego Prepare is a co-sponsor of this conference for Continuing Education Credits for Psychologists. Amego Prepare is approved by the American Psychological Association to sponsor continuing education for psychologists. Amego Prepare maintains responsibility for this program and its content. \nIn case of a complaint\, about Psychology CE Credits\, contact Amergo Prepare directly through Dr. Michael Weinberg at or*******************@***il.com \nAttendees must complete all six presentations in-person or virtually from live/synchronous learning to earn Psychology CE Credits. (Partial credit will not be issued.) An evaluation and code quiz with a 100% score needs to be completed for issuance of continuing education. *Although recordings will be available\, you may ONLY earn Psychology CE Credits through live attendance and you must complete the attendance verification process by the Monday following the conference at midnight. \nQuestions or concerns? Contact Rebekah Pavlik at pa****@******or.org. \nParticipants are responsible for knowing and meeting the CE requirements of their licenses or certifications. \n			\n				\n				\n				\n				\n				Location - Endicott College\, Beverly\, MA and online\n				This is a hybrid event with a smaller in-person gathering or a virtual attendance offering. Our in-person event will be held on the beautiful campus of Endicott College in Beverly\, Massachusetts. \nFor In-Person:\nEvent Venue: Klebanoff Auditorium\, Endicott College. Interactive Campus Map \nFor parking anywhere on campus\, you need to download and print out the parking permit for your vehicle. \nEnter the Endicott College main entrance and follow the road up the Hill. \nFor virtual attendance: \nThe Zoom meeting link and access information will be sent from be**********@***il.com the week of the conference.  IF you do not receive\, email pa****@******or.org. \n  \n  \n \n  \n			\n			\n				\n				\n				\n				\n				\n				\n				\n				\n				\n				with Introduction by\n			\n				\n					\n					\n					\n				\n				Rob Holdsambeck\, EdD\, LCP\, BCBA-DExecutive Director\, Cambridge Center for Behavioral Studies™
URL:https://behavior.org/event/14th-annual-ethics-in-professional-practice-conference/
LOCATION:Endicott College Campus\, Beverly\, Massachusetts\, 376 Hale Street\, Beverly\, MA\, 01915\, United States
CATEGORIES:Conferences,Ethics
ATTACH;FMTTYPE=image/jpeg:https://behavior.org/wp-content/uploads/2026/01/Ethics2026-EventListingSlider.jpg
END:VEVENT
BEGIN:VEVENT
DTSTART;VALUE=DATE:20261113
DTEND;VALUE=DATE:20261114
DTSTAMP:20260425T104813
CREATED:20260423T204437Z
LAST-MODIFIED:20260423T204442Z
UID:29566-1794528000-1794614399@behavior.org
SUMMARY:8th Annual Behavioral Science: Applications in Leadership & Supervision Conference
DESCRIPTION:A one-day conference featuring leaders in the field of Applied Behavior Analysis\, Organizational Behavior Management\, and Autism\, to discuss critical issues in supervision important to Behavior Analysts (BCBA-Ds\, BCBAs\, BCaBAs & RBTs) and other professionals\, such as psychologists\, teachers\, and special educators. \nPlease review Continuing Education\, below\, if seeking to earn BACB Learning CEUs and/or Psychology CE Credits. (Psychology CE Credits regulations have changed; we are no longer issuing for asynchronous through recordings.) \nThe conference will be presented in Kansas and through Zoom in the Central Time Zone. An introduction is planned for 8:30 am (CENTRAL) with presentations starting at 8:45 am and ending at 4:45 pm (CENTRAL) \n			\n				\n				\n				\n				\n				Invited Speakers\n			\n				\n					\n					\n					\n				\n				Summer Bottini\, PhD\, BCBA-DMarcus and Emory University \n					\n					\n					\n				\n				Mark Alavosius\, PhDUniversity of Nevada\, Reno \n					\n					\n					\n				\n				Diana Parry-Cruwys\,  PhD\, BCBA-D\, LABARegis College \n					\n					\n					\n				\n				Claudia Dozier\, PhDUniversity of Kansas \n					\n					\n					\n				\n				Natalie Andzik\, PhD\, BCBA-DNorthern Illinois University \n				\n				\n				\n				\n				Plus a Panel with Moderator\n			\n				\n					\n					\n					\n				\n				Thomas Zane\, PhD\, BCBA-DH.S. Pennypacker Chair of the Board\nUniversity of Kansas \n				\n				\n				\n				\n				Continuing Education Opportunities\n				Continuing Education opportunities: \nBACB® Learning CEUs and Psychology CE Credits (Includes Licensed psychologists\, school psychologists\, and EdDs/educational psychologists) \nThis is a hybrid in-person and virtual conference. Recordings will be available for 14 days. (For those seeking Psychology CE Credits\, ONLY live/synchronous study is available.) \n \nBACB® Learning CEUs (6.0 Anticipated): The Cambridge Center for Behavioral Studies is an approved Type 2 CE Provider by the Behavior Analyst Certification Board® (BACB®) and is authorized to offer 6.0 CE units for this conference. Continuing Education Provider No.: OP-04-0058 \nAttendees must complete all six presentations in-person\, virtually or through recordings available for 14 days post-conference for asynchronous home-study* to earn CEs. (Partial credit will not be issued.) An evaluation and code quiz with a 100% score needs to be completed for issuance of continuing education for live/synchronous study by the Monday following the conference. *IF you are seeking to earn BACB® Learning CEUs through watching recordings\, you will need to complete a different process\, including a question/answer quiz with 3 questions for each presentation. This is a new regulation. \nAPA Approved Sponsor  \nPsychology CE Credits (6.0 Anticipated)*: Amego Prepare is a co-sponsor of this conference for Continuing Education Credits for Psychologists. Amego Prepare is approved by the American Psychological Association to sponsor continuing education for psychologists. Amego Prepare maintains responsibility for this program and its content. \nIn case of a complaint\, about Psychology CE Credits\, contact Amergo Prepare directly through Dr. Michael Weinberg at or*******************@***il.com \nAttendees must complete all six presentations in-person or virtually from live/synchronous learning to earn Psychology CE Credits. (Partial credit will not be issued.) An evaluation and code quiz with a 100% score needs to be completed for issuance of continuing education. *Although recordings will be available\, you may ONLY earn Psychology CE Credits through live attendance and you must complete the attendance verification process by the Monday following the conference at midnight. \nQuestions or concerns? Contact Rebekah Pavlik at pa****@******or.org. \nParticipants are responsible for knowing and meeting the CE requirements of their licenses or certifications. \n			\n				\n				\n				\n				\n				LOCATION\n				This is a hybrid event with a smaller in-person gathering or a virtual attendance offering. \nIN-PERSON: \nUniversity of Kansas – Lawrence campus \nBurge Union (FORUM D) \n\n1565 Irving Hill RoadLawrence\, KS 66045\n\n \nParking (Get Google Map): \nAllen Fieldhouse Parking Garage1501 Irving Hill RoadLawrence\, KS 66045 \nCentral District Parking Garage1631 Ousdahl RoadLawrence\, KS 66045 \nThe first hour is $2.25\, and all subsequent hours are $2.00. \nVIRTUAL: \nInstructions with Zoom link & password to be emailed to registered attendees the week of the conference. \n 
URL:https://behavior.org/event/8th-annual-behavioral-science-applications-in-leadership-supervision-conference/
LOCATION:University of Kansas\, KU Memorial Union\, Lawrence\, KS\, 66045\, United States
CATEGORIES:Conferences
ATTACH;FMTTYPE=image/jpeg:https://behavior.org/wp-content/uploads/2023/01/KU_Supervision_2023.jpg
END:VEVENT
END:VCALENDAR