BEGIN:VCALENDAR
VERSION:2.0
PRODID:-//Cambridge Center for Behavioral Studies - ECPv6.15.13//NONSGML v1.0//EN
CALSCALE:GREGORIAN
METHOD:PUBLISH
X-WR-CALNAME:Cambridge Center for Behavioral Studies
X-ORIGINAL-URL:https://behavior.org
X-WR-CALDESC:Events for Cambridge Center for Behavioral Studies
REFRESH-INTERVAL;VALUE=DURATION:PT1H
X-Robots-Tag:noindex
X-PUBLISHED-TTL:PT1H
BEGIN:VTIMEZONE
TZID:UTC
BEGIN:STANDARD
TZOFFSETFROM:+0000
TZOFFSETTO:+0000
TZNAME:UTC
DTSTART:20240101T000000
END:STANDARD
END:VTIMEZONE
BEGIN:VEVENT
DTSTART;TZID=UTC:20250627T120000
DTEND;TZID=UTC:20250627T140000
DTSTAMP:20260425T150636
CREATED:20250324T225517Z
LAST-MODIFIED:20250324T225517Z
UID:23477-1751025600-1751032800@behavior.org
SUMMARY:ABACLive Webinar with Dr. Tara Fahmie
DESCRIPTION:Presented through the ABACLive Cambridge Center Series. Helping those who help others\, one live webinar at a time. \nCCBS Trustee Tara Fahmie\, PhD\, BCBA-D\, presents “Ten Tips for Becoming a Productive Writer”\nFriday\, June 27\, 2025\n12:00 pm – 2:00 pm (Eastern/NY)\nRecordings available until 07/13/25 \nThis event is FREE for the general public. Or available for a discounted price with: \nThis Program is Approved for the Following CE Credit Types: \n\n2.0 BACB Learning CEUs\n2.0 QABA CEUs\n2.0 IBAO General CEUs\nCEUs available to those that watch the live event or view the recording. See brochure for continuing education requirements.\n\nPlease link to the Event on ABAC for detailed Applicable CE provider/sponsor statements. \nRegister on ABAC Website – FREE (NO CEs) \nRegister on ABAC Website to Earn Continuing Education \nAbstract\nWhile often associated with treatment for individuals with autism spectrum disorder\, the field of behavior analysis has a lot to offer all professionals in the self-management of productive writing schedules. This workshop is designed for students or professionals who find themselves writing assessments\, reports\, treatment plans\, IEP goals\, research protocols\, manuscripts\, reviews\, and more. Writing constitutes a large portion of professional correspondence in psychology\, and often its efficiency is not directly trained. In this workshop\, you will be provided with ten strategies to improve your own writing efficiency. Join Dr. Fahmie in the exploration and transformation of habits that may lead to missed deadlines\, missed opportunities for funding\, and overall lack of productivity. Participants will complete a workbook to guide the initial self-management of a productive writing schedule\, so whether you find yourself avoiding writing tasks altogether\, or you simply want to use your time more efficiently\, this workshop will get you back on track. \nLearning Objectives:\nBy the end of this event\, participants should be able to: \n\nParticipants will identify the behavioral characteristics of writing.\nParticipants will identify strategies for increasing their writing productivity.\n Participants will identify habits that hinder the productivity of their writing.\n\nPresenter Bio: \n \nDr. Tara Fahmie is a Professor and Director of the Severe Behavior Program at the University of Nebraska Medical Center’s Munroe Meyer Institute. She previously held an appointment as associate professor at California State University\, Northridge (CSUN). Although her main area of research is in the assessment and treatment of severe problem behavior\, she has dedicated considerable time to the improvement of scholarly writing through authorship\, editorial board membership\, and mentorship of students. She has authored chapters on the writing process\, served on conference panels\, and conducted several workshops for diverse audiences on writing habits and techniques. By infusing her personal journey of self-improvement in scholarly writing with evidence-based strategies and behavioral concepts\, Dr. Fahmie hopes to teach attendees a few key writing skills that will set them up for personal and professional success. \n*This event is FREE for the general public. For those that want a certificate of completion for continuing education credits please purchase the discounted CEs. Register on ABAC Website – FREE (NO CEs) \nThis event is being offered at the discounted ABACLive Cambridge Center Series price for CEUs (Learning). Behavior Analysts may earn continuing education for viewing the live event or recording. Behavior Analysts: 2 CEUs (Learning) Register on ABAC Website to Earn Continuing Education \nThe ABACLive Cambridge Center Series of webinars are presented by Board of Directors\, Trustees\, Advisors\, Senior Fellows of the prestigious Cambridge Center for Behavioral Studies. \nThe ABACLive Cambridge Center Series is the result of a collaboration between The Cambridge Center for Behavioral Studies (CCBS) and The Applied Behavior Analysis Center\, Inc (ABAC) designed to make behavioral health education accessible to the global community of professionals working to make a positive difference in the lives of others. \nRegister on ABAC Website – FREE (NO CEs) \nRegister on ABAC Website to Earn Continuing Education \nGo to ABAC Website for ongoing continuing education opportunities.
URL:https://behavior.org/event/abaclive-webinar-with-dr-tara-fahmie/
LOCATION:Your desktop or mobile device!
ATTACH;FMTTYPE=image/jpeg:https://behavior.org/wp-content/uploads/2025/03/Fahmie_ABAC.jpg
END:VEVENT
END:VCALENDAR