BEGIN:VCALENDAR
VERSION:2.0
PRODID:-//Cambridge Center for Behavioral Studies - ECPv6.15.13//NONSGML v1.0//EN
CALSCALE:GREGORIAN
METHOD:PUBLISH
X-WR-CALNAME:Cambridge Center for Behavioral Studies
X-ORIGINAL-URL:https://behavior.org
X-WR-CALDESC:Events for Cambridge Center for Behavioral Studies
REFRESH-INTERVAL;VALUE=DURATION:PT1H
X-Robots-Tag:noindex
X-PUBLISHED-TTL:PT1H
BEGIN:VTIMEZONE
TZID:America/New_York
BEGIN:DAYLIGHT
TZOFFSETFROM:-0500
TZOFFSETTO:-0400
TZNAME:EDT
DTSTART:20240310T070000
END:DAYLIGHT
BEGIN:STANDARD
TZOFFSETFROM:-0400
TZOFFSETTO:-0500
TZNAME:EST
DTSTART:20241103T060000
END:STANDARD
BEGIN:DAYLIGHT
TZOFFSETFROM:-0500
TZOFFSETTO:-0400
TZNAME:EDT
DTSTART:20250309T070000
END:DAYLIGHT
BEGIN:STANDARD
TZOFFSETFROM:-0400
TZOFFSETTO:-0500
TZNAME:EST
DTSTART:20251102T060000
END:STANDARD
BEGIN:DAYLIGHT
TZOFFSETFROM:-0500
TZOFFSETTO:-0400
TZNAME:EDT
DTSTART:20260308T070000
END:DAYLIGHT
BEGIN:STANDARD
TZOFFSETFROM:-0400
TZOFFSETTO:-0500
TZNAME:EST
DTSTART:20261101T060000
END:STANDARD
END:VTIMEZONE
BEGIN:VEVENT
DTSTART;TZID=America/New_York:20250523T130000
DTEND;TZID=America/New_York:20250523T170000
DTSTAMP:20260426T034136
CREATED:20250114T220935Z
LAST-MODIFIED:20250520T174756Z
UID:22867-1748005200-1748019600@behavior.org
SUMMARY:2025 Annual Meeting of the Trustees
DESCRIPTION:Our 2025 Annual Meeting of the Trustees is planned for Friday\, May 23\, 2025. \nOur in-person attendees will be meeting at The Chicago School\, Washington\, DC\, campus\, thanks to CCBS Trustee T.V. Joe Layng.  Our virtual attendees will be logging in through Zoom. \nDoors open at 12:45 pm and the meeting opens at 1:00 pm with adjournment scheduled at 4:00 pm (Eastern). Immediately afterward\, an informal get-together with light fare is scheduled until 5:00 pm for our in-person attendees. \nBrief Schedule: \nDr. Thomas Zane\, H.S. Pennypacker Chair of the Board\, will call to order at 1:00 pm (Eastern/NY) with Trustees voting for acceptance of the 2024 minutes and for nominated incoming Trustees and Advisors. The financials and past\, present\, and future projects will be reviewed by Dr. Rob Holdsambeck\, Executive Director\, with updates from our volunteers who have championed projects. Presentations may be made both in-person and streaming in virtually. The meeting is to adjourn at 4:00 pm (Eastern/NY). \nWe look forward to your participation as a Trustee\,  Advisor\,  Distinguished Scholar or Friend of the Center. \n  \n			\n				\n				\n				\n				\n				Location\n				In Person on the campus of The Chicago School\, Washington DC Campus\, or virtually (Zoom link to be sent the week before conference.) \nAddress:\nThe Chicago School – 1015 Building1015 15th Street NW\, Floor 4 – ROOM 403ABCWashington\, D.C. 20005 \nMarker: The building is adjacent the Starbucks\, which is located on the corner of K and 15th Street. \nGoogle Map:\nhttps://maps.app.goo.gl/Z7d2HjVfG9wJq7UR8\n \nTransportation Options: \nThe easiest way to get to campus is by Metro. The closest stop is the Blue and Orange line’s McPherson Square; both exits are only a block from campus. Farragut North is the closest stop on the Red Line.\n \nBuses are also a convenient commuting option. There are several stops in McPherson Square\, Franklin Square\, and along K Street NW.\n \nTHERE IS NO PRIVATE PARKING for The Chicago School. Street parking is $2.35 per hour\, and most of the meters around campus are 2 hours maximum. Many areas are also designated “No Parking” after 4 p.m. for rush hour traffic. Various parking garages are close to campus but have flat all-day fees. The garages beneath the North and South campuses range between $20 to $25 per day. Look out for other garages around campus; some have early bird specials.\n \nSome public parking options include:\n \n15th Parking: 1015 15th St NW\, Washington\, DC 20005\nColonial Parking: 1133 15th St NW\, Washington\, DC 20005\nColonial Parking: 1425 K St NW\, Washington\, DC 20001\nColonial Parking: 1575 I St NW\, Washington\, DC 20005\n			\n				REGISTER\n			\n			\n				\n				\n				\n				\n				\n				\n				\n				\n				\n				Held at The Chicago School of Professional Psychology1015 Building\nWashington DC \n			\n				\n				\n				\n				\n				\n			\n				\n				\n				\n				\n				\n			\n				REGISTER
URL:https://behavior.org/event/2025-annual-meeting-of-the-trustees/
LOCATION:KS
ATTACH;FMTTYPE=image/jpeg:https://behavior.org/wp-content/uploads/2025/03/AM2025Slider.jpg
END:VEVENT
END:VCALENDAR